BEGIN:VCALENDAR
VERSION:2.0
PRODID:-//K100 - ECPv4.6.26//NONSGML v1.0//EN
CALSCALE:GREGORIAN
METHOD:PUBLISH
X-WR-CALNAME:K100
X-ORIGINAL-URL:https://k100.ca
X-WR-CALDESC:Events for K100
BEGIN:VEVENT
DTSTART;TZID=America/Halifax:20180907T120000
DTEND;TZID=America/Halifax:20180907T130000
DTSTAMP:20260423T061919
CREATED:20180830T131815Z
LAST-MODIFIED:20180830T131815Z
UID:5702-1536321600-1536325200@k100.ca
SUMMARY:Bobby's Hospice BBQ
DESCRIPTION:Bobby’s Hospice BBQ takes place this Fri at noon at 385 Dufferin Row\, West.  $6 person. Rain or Shine! \n
URL:https://k100.ca/event/bobbys-hospice-bbq-12/2018-09-07/
LOCATION:Bobby’s Hospice
END:VEVENT
BEGIN:VEVENT
DTSTART;TZID=America/Halifax:20180907T193000
DTEND;TZID=America/Halifax:20180907T220000
DTSTAMP:20260423T061919
CREATED:20180822T151845Z
LAST-MODIFIED:20180822T151845Z
UID:5509-1536348600-1536357600@k100.ca
SUMMARY:TNB Presents "Any Given Moment"
DESCRIPTION:Theatre New Brunswick launch 50th anniversary season with world premiere by New Brunswick playwright Any Given Moment by Kim Parkhill will tour the province September 4-9 before a six performance run in Fredericton at the Open Space Theatre. Directed by Natasha MacLellan. Saint John Show is Friday Sept 7th at 7:30 pm at BMO Theatre. \n
URL:https://k100.ca/event/tnb-presents-any-given-moment/
LOCATION:BMO Theatre
END:VEVENT
END:VCALENDAR