BEGIN:VCALENDAR
VERSION:2.0
PRODID:-//K100 - ECPv4.6.26//NONSGML v1.0//EN
CALSCALE:GREGORIAN
METHOD:PUBLISH
X-WR-CALNAME:K100
X-ORIGINAL-URL:https://k100.ca
X-WR-CALDESC:Events for K100
BEGIN:VEVENT
DTSTART;TZID=America/Halifax:20180904T173000
DTEND;TZID=America/Halifax:20180904T190000
DTSTAMP:20260423T114332
CREATED:20180615T173905Z
LAST-MODIFIED:20180626T143321Z
UID:4198-1536082200-1536087600@k100.ca
SUMMARY:100 Women Who Care Meeting
DESCRIPTION:The next meeting for “100 Women Who Care” will take place Tues\, Sept 4th at Lily Lake Pavilion at 5:30pm. \n
URL:https://k100.ca/event/100-women-who-cares-meeting-2/
END:VEVENT
END:VCALENDAR