BEGIN:VCALENDAR
VERSION:2.0
PRODID:-//K100 - ECPv4.6.26//NONSGML v1.0//EN
CALSCALE:GREGORIAN
METHOD:PUBLISH
X-WR-CALNAME:K100
X-ORIGINAL-URL:https://k100.ca
X-WR-CALDESC:Events for K100
BEGIN:VEVENT
DTSTART;TZID=America/Halifax:20170610T080000
DTEND;TZID=America/Halifax:20170610T170000
DTSTAMP:20260421T104233
CREATED:20170502T164912Z
LAST-MODIFIED:20170502T164912Z
UID:2675-1497081600-1497114000@k100.ca
SUMMARY:Heart and Stroke Foundation Mud Run for Heart
DESCRIPTION:The Heart and Stroke Foundation of N.B. Mud Run for Heart takes place at Poley Mountain in Sussex.  For more information go to www.mudrunforheart.com \n
URL:https://k100.ca/event/heart-and-stroke-foundation-mud-run-for-heart/
END:VEVENT
BEGIN:VEVENT
DTSTART;TZID=America/Halifax:20170610T090000
DTEND;TZID=America/Halifax:20170610T170000
DTSTAMP:20260421T104233
CREATED:20170531T115525Z
LAST-MODIFIED:20170531T115525Z
UID:2847-1497085200-1497114000@k100.ca
SUMMARY:"Walk with your Mug" 2K Memorial Walk
DESCRIPTION:\n\n\n“Walk with your Mug” 2 km Memorial walk for Janice Craig \nStarts at True Life Church\, 30 Vincent Rd\, Quispamsis to Fairvale Elementary and back. Free coffee will be provided by Java Moose.\nMemorial Shrub to be planted at Healthy Path donated by Brunswick Nursery.\nIf you have any questions please call Jo-Anne at (506)832-1952 \n(100% of monies donated will be given to several of Janice’s causes)\n\n\n\n
URL:https://k100.ca/event/walk-with-your-mug-2k-memorial-walk/
END:VEVENT
BEGIN:VEVENT
DTSTART;TZID=America/Halifax:20170610T113000
DTEND;TZID=America/Halifax:20170610T143000
DTSTAMP:20260421T104233
CREATED:20170601T130315Z
LAST-MODIFIED:20170601T130315Z
UID:2856-1497094200-1497105000@k100.ca
SUMMARY:Family Fun Day
DESCRIPTION:  \nCelebrating Queen Elizabeth’s Sapphire Jubilee. \nWe are hosting our annual Family Fun Day at Kennebec Manor-475 Woodward Avenue\, Saint John\, N.B.  (Near Samuel de Champlain School) \nThis event is a fundraiser to raise $$ to improve our backyard for our seniors who live there. \n  \n
URL:https://k100.ca/event/family-fun-day/
END:VEVENT
BEGIN:VEVENT
DTSTART;TZID=America/Halifax:20170610T190000
DTEND;TZID=America/Halifax:20170610T190000
DTSTAMP:20260421T104233
CREATED:20170601T133239Z
LAST-MODIFIED:20170601T133239Z
UID:2858-1497121200-1497121200@k100.ca
SUMMARY:Walk For Kota
DESCRIPTION:A live auction fundraiser will take place at Fairville Shooters at 7pm for Dakota who is 3 years old.  Thirty percent of the funds raised will be donated to Muscular Dystrophy Canada. \n
URL:https://k100.ca/event/walk-for-kota/
END:VEVENT
END:VCALENDAR