BEGIN:VCALENDAR
VERSION:2.0
PRODID:-//K100 - ECPv4.6.26//NONSGML v1.0//EN
CALSCALE:GREGORIAN
METHOD:PUBLISH
X-WR-CALNAME:K100
X-ORIGINAL-URL:https://k100.ca
X-WR-CALDESC:Events for K100
BEGIN:VEVENT
DTSTART;TZID=America/Halifax:20170607T140000
DTEND;TZID=America/Halifax:20170607T160000
DTSTAMP:20260421T160702
CREATED:20170601T174012Z
LAST-MODIFIED:20170601T174012Z
UID:2865-1496844000-1496851200@k100.ca
SUMMARY:Vimy Ridge Tree planting Ceremony
DESCRIPTION:The town of Grand Bay – Westfield will participate in the Vimy Oaks Legacy Program by planting a sapling that is directly descended from oak trees that once grew on Vimy Ridge. This tree will provide a lasting memorial to the sacrifices made by Canada’s brave soldiers in the First World War. \nThe planting will have Mayor Grace Losier and executive Director of Landscape NB/PEI in attendance\, and will be held at the intersection of Macdonald Drive and River Valley Drive\, and will run adjacent to our MADD bench. \n
URL:https://k100.ca/event/vimy-ridge-tree-planting-ceremony/
END:VEVENT
END:VCALENDAR