BEGIN:VCALENDAR
VERSION:2.0
PRODID:-//K100 - ECPv4.6.26//NONSGML v1.0//EN
CALSCALE:GREGORIAN
METHOD:PUBLISH
X-WR-CALNAME:K100
X-ORIGINAL-URL:https://k100.ca
X-WR-CALDESC:Events for K100
BEGIN:VEVENT
DTSTART;TZID=America/Halifax:20170603T080000
DTEND;TZID=America/Halifax:20170603T150000
DTSTAMP:20260421T230946
CREATED:20170530T171038Z
LAST-MODIFIED:20170530T171038Z
UID:2821-1496476800-1496502000@k100.ca
SUMMARY:KV Oasis Boutique Sale
DESCRIPTION:Kennebecasis Valley Oasis Youth Centre is having a Boutique Sale from 8am-3pm at 15 Pickett lane (off River Road). \n
URL:https://k100.ca/event/kv-oasis-boutique-sale/
END:VEVENT
BEGIN:VEVENT
DTSTART;TZID=America/Halifax:20170603T090000
DTEND;TZID=America/Halifax:20170603T120000
DTSTAMP:20260421T230946
CREATED:20170530T185223Z
LAST-MODIFIED:20170530T190122Z
UID:2841-1496480400-1496491200@k100.ca
SUMMARY:Saint John & Area School String Program Annual Perennial Sale
DESCRIPTION:The Saint John and Area School String Program is holding its annual Perennial sale on Saturday\, June 3rd in the Family Centre behind St. Rose School. \nThere will be a huge selection of perennials available at great prices\, as well a Bake Sale table! All remaining plants will be 50% off between 11am – 12pm. \n  \nBring a friend\, and enjoy a coffee and muffin while you browse thru the plants\, and support string music in the Saint John Schools! \n  \nPlant Donations are welcome (506-672-4042 for details.) \n  \n
URL:https://k100.ca/event/saint-john-area-school-string-program-annual-perennial-sale/
END:VEVENT
BEGIN:VEVENT
DTSTART;TZID=America/Halifax:20170603T100000
DTEND;TZID=America/Halifax:20170603T170000
DTSTAMP:20260421T230946
CREATED:20170509T175803Z
LAST-MODIFIED:20170509T175803Z
UID:2716-1496484000-1496509200@k100.ca
SUMMARY:12th Annual Strides for Change 5km Walk
DESCRIPTION:The 12th annual Strides for Change 5km walk starts a 11am.  Registration at 10am at Fisher Lakes\, Rockwood Park.  Enjoy a BBQ\, auction and entertainment as you help MADD Saint John Area Chapter raise funds to assist those impacted by drinking and driving. \n
URL:https://k100.ca/event/12th-annual-strides-for-change-5km-walk/
END:VEVENT
BEGIN:VEVENT
DTSTART;TZID=America/Halifax:20170603T120000
DTEND;TZID=America/Halifax:20170603T190000
DTSTAMP:20260421T230946
CREATED:20170601T170317Z
LAST-MODIFIED:20170601T170317Z
UID:2862-1496491200-1496516400@k100.ca
SUMMARY:YMCA Healthy Kids Day
DESCRIPTION:\n\n\n \nJoin us THIS Saturday\, June 3rd for YMCA Healthy Kids Day. \nThe YMCA of Greater Saint John is celebrating Healthy Kids Day by offering families the opportunity to drop by the Saint John Regional Y ( 191 Churchill Blvd) for fun activities\, free of charge. \nParents are encouraged to bring their families to participate in activities while learning the joys of living a healthy lifestyle\, together\, as a family. View event details below and join in on the fun this Saturday! \nSaturday\, June 3rd | 191 Churchill Blvd.\n12:00-3:00 pm\n• Inflatable Games\nIncluding a Bouncing Tent!\n• FREE Healthy Snacks\nMake a healthy banana split compliments of the Atlantic Superstore!\n• Family Obstacle Course\n• Face Painting\n• Ping Pong\n• Photo Booth\n• Musical Games\n• Prizes\n3:00-6:00 pm\n• Family Swim\n3:00-4:30 pm\n• Kids Learning to Code Workshop (3:00-4:30 pm)\nFor youth 8-13 years old. Please bring your own laptop. Learn how to code your own video game! \nHealthy Kids Day also includes opportunities to WIN Y prizes\, including a 3 month Family Membership. We can’t wait to see you there!\n\n\n\n
URL:https://k100.ca/event/ymca-healthy-kids-day/
END:VEVENT
BEGIN:VEVENT
DTSTART;TZID=America/Halifax:20170603T190000
DTEND;TZID=America/Halifax:20170603T210000
DTSTAMP:20260421T230946
CREATED:20170531T195207Z
LAST-MODIFIED:20170531T195207Z
UID:2852-1496516400-1496523600@k100.ca
SUMMARY:The Cool Chicks and the Ugly Doclings
DESCRIPTION:Everyone’s favourite musical medical pros are back – The Cool Chicks and the Ugly Doclings have been generous supporters of the Saint John Arts Centre from the beginning\, and we’re thrilled to welcome them back once again for a fun evening of fabulous tunes to raise money for *your* community arts centre! \nThe show is at the Saint John Arts Centre\, and tickets are $15. You can get them on our website (sjartscentre.ca)\, or feel free to call us to use your Visa/Mastercard over the phone\, or come in and see us at the front desk! \n
URL:https://k100.ca/event/the-cool-chicks-and-the-ugly-doclings/
END:VEVENT
END:VCALENDAR