BEGIN:VCALENDAR
VERSION:2.0
PRODID:-//K100 - ECPv4.6.26//NONSGML v1.0//EN
CALSCALE:GREGORIAN
METHOD:PUBLISH
X-WR-CALNAME:K100
X-ORIGINAL-URL:https://k100.ca
X-WR-CALDESC:Events for K100
BEGIN:VEVENT
DTSTART;VALUE=DATE:20170526
DTEND;VALUE=DATE:20170527
DTSTAMP:20260424T155443
CREATED:20170413T182003Z
LAST-MODIFIED:20170413T182003Z
UID:2594-1495756800-1495843199@k100.ca
SUMMARY:In the Spotlight
DESCRIPTION:Doors Open 7:00pm\nShow Starts 8:00pm\nTickets $50 \nAt 8:00pm on May 26th the beautiful KVHS stage will provide the perfect backdrop for a host of talented individuals and groups\, all performing to benefit the KV Oasis Youth Centre. \nWe are thrilled to announce the inaugural event\, “In the Spotlight”\, an opportunity to step outside your comfort zone\, showing support to the youth in our community\, some of whom step out of their comfort zone every day for the “performance” that is their life. \nEntertainment is included in your ticket price. The evening will also include snacks\, cash bar\, 50/50 tickets and a silent auction\, so make sure to have cash on hand! \n
URL:https://k100.ca/event/in-the-spotlight/
ATTACH;FMTTYPE=image/png:https://k100.ca/wp-content/uploads/sites/9/2017/04/Spotlight.png
END:VEVENT
BEGIN:VEVENT
DTSTART;VALUE=DATE:20170526
DTEND;VALUE=DATE:20170527
DTSTAMP:20260424T155443
CREATED:20170518T165916Z
LAST-MODIFIED:20170518T165916Z
UID:2781-1495756800-1495843199@k100.ca
SUMMARY:49th Annual LOBSTER STAG
DESCRIPTION:On Friday Night\, May 26th\, the Kennebecasis Lions Club will be conducting our 49th Annual LOBSTER STAG at the Bill McGuire Memorial Centre in Rothesay.     For Men Only\, we hold a fun & spirited All You Can Eat Lobster Feast! Doors open at 5pm with beers and cocktails. Dinner starts at 7pm with steamed mussels and then the Lobster Feast shifts into high gear! Throughout the evening we will be raffling off all types of prizes. There will be a 50/50 draw and hit a peak with the final draw\, The Grand Prize – a Newmac Wood Stove donated by Ritchie’s as part of their 50th Anniversary Celebration! Tickets are $60 per person. Come join a truly great fun event with friends! All proceeds go to community projects. \nThe Kennebecasis Lions Club was formed in 1959 and has donated over $1.7 Million to better our community and help friends in need in our 58 year history. Our Motto is “There is no greater satisfaction than knowing you have made a difference in someone else’s life”! \n
URL:https://k100.ca/event/49th-annual-lobster-stag/
END:VEVENT
END:VCALENDAR