BEGIN:VCALENDAR
VERSION:2.0
PRODID:-//K100 - ECPv4.6.26//NONSGML v1.0//EN
CALSCALE:GREGORIAN
METHOD:PUBLISH
X-WR-CALNAME:K100
X-ORIGINAL-URL:https://k100.ca
X-WR-CALDESC:Events for K100
BEGIN:VEVENT
DTSTART;TZID=America/Halifax:20170524T114500
DTEND;TZID=America/Halifax:20170524T131500
DTSTAMP:20260424T185459
CREATED:20170502T164422Z
LAST-MODIFIED:20170502T164422Z
UID:2673-1495626300-1495631700@k100.ca
SUMMARY:Hospice Sunflower Luncheon
DESCRIPTION:Hospice Sunflower Luncheon will take place at the Saint John Trade & Convention Centre from 11:45am-1:15pm with guest speaker Jim Quinn\, President & CEO Port of Saint John.  Tickets $55 and can be purchased by calling 632-5593. \n
URL:https://k100.ca/event/hospice-sunflower-luncheon/
END:VEVENT
BEGIN:VEVENT
DTSTART;TZID=America/Halifax:20170524T170000
DTEND;TZID=America/Halifax:20170524T190000
DTSTAMP:20260424T185459
CREATED:20170518T130354Z
LAST-MODIFIED:20170518T130354Z
UID:2775-1495645200-1495652400@k100.ca
SUMMARY:Chase The Ace
DESCRIPTION:Join in the fun while supporting the Loch Lomond Villa Foundation.  Chase The Ace takes place tonight at the 3 Mile.  Tickets can be purchased between 5-7pm.  Draw at 7:15pm. \n
URL:https://k100.ca/event/chase-the-ace-7/
END:VEVENT
END:VCALENDAR