BEGIN:VCALENDAR
VERSION:2.0
PRODID:-//K100 - ECPv4.6.26//NONSGML v1.0//EN
CALSCALE:GREGORIAN
METHOD:PUBLISH
X-WR-CALNAME:K100
X-ORIGINAL-URL:https://k100.ca
X-WR-CALDESC:Events for K100
BEGIN:VEVENT
DTSTART;VALUE=DATE:20170214
DTEND;VALUE=DATE:20170215
DTSTAMP:20260421T090830
CREATED:20170208T185547Z
LAST-MODIFIED:20170208T185547Z
UID:2269-1487030400-1487116799@k100.ca
SUMMARY:Valentine's Day
DESCRIPTION:Happy Valentine’s Day! \n
URL:https://k100.ca/event/valentines-day/
END:VEVENT
END:VCALENDAR