BEGIN:VCALENDAR
VERSION:2.0
PRODID:-//K100 - ECPv4.6.26//NONSGML v1.0//EN
CALSCALE:GREGORIAN
METHOD:PUBLISH
X-WR-CALNAME:K100
X-ORIGINAL-URL:https://k100.ca
X-WR-CALDESC:Events for K100
BEGIN:VEVENT
DTSTART;TZID=America/Halifax:20180624T113000
DTEND;TZID=America/Halifax:20180624T150000
DTSTAMP:20260422T091333
CREATED:20180621T175905Z
LAST-MODIFIED:20180621T175905Z
UID:4222-1529839800-1529852400@k100.ca
SUMMARY:St. Martin's Farmers Market
DESCRIPTION:St. Martins Farmers Market will be held Sun\, June 24th from 11:30pm-3pm at the St. Martins C0mmunity Hall\, 273 Main St. \n
URL:https://k100.ca/event/st-martins-farmers-market/
END:VEVENT
END:VCALENDAR