BEGIN:VCALENDAR
VERSION:2.0
PRODID:-//K100 - ECPv4.6.26//NONSGML v1.0//EN
CALSCALE:GREGORIAN
METHOD:PUBLISH
X-WR-CALNAME:K100
X-ORIGINAL-URL:https://k100.ca
X-WR-CALDESC:Events for K100
BEGIN:VEVENT
DTSTART;TZID=America/Halifax:20170527T120000
DTEND;TZID=America/Halifax:20170527T170000
DTSTAMP:20260424T121425
CREATED:20170504T142511Z
LAST-MODIFIED:20170504T142511Z
UID:2699-1495886400-1495904400@k100.ca
SUMMARY:Spaghetti Dinner Auction
DESCRIPTION:A spaghetti dinner and auction will take at Centre Samuel de Champlain from 12-5pm. \n
URL:https://k100.ca/event/spaghetti-dinner-auction/
END:VEVENT
END:VCALENDAR