BEGIN:VCALENDAR
VERSION:2.0
PRODID:-//K100 - ECPv4.6.26//NONSGML v1.0//EN
CALSCALE:GREGORIAN
METHOD:PUBLISH
X-WR-CALNAME:K100
X-ORIGINAL-URL:https://k100.ca
X-WR-CALDESC:Events for K100
BEGIN:VEVENT
DTSTART;TZID=America/Halifax:20170421T190000
DTEND;TZID=America/Halifax:20170421T190000
DTSTAMP:20260423T090954
CREATED:20170420T180301Z
LAST-MODIFIED:20170420T180301Z
UID:2637-1492801200-1492801200@k100.ca
SUMMARY:Sea Dogs game
DESCRIPTION:Saint John Sea Dogs are playing against the Chicoutimi Saguenees tonight at 7pm at the Harbour Station. \n
URL:https://k100.ca/event/sea-dogs-game-3/
END:VEVENT
END:VCALENDAR