BEGIN:VCALENDAR
VERSION:2.0
PRODID:-//K100 - ECPv4.6.26//NONSGML v1.0//EN
CALSCALE:GREGORIAN
METHOD:PUBLISH
X-WR-CALNAME:K100
X-ORIGINAL-URL:https://k100.ca
X-WR-CALDESC:Events for K100
BEGIN:VEVENT
DTSTART;TZID=America/Halifax:20251207T160000
DTEND;TZID=America/Halifax:20251207T160000
DTSTAMP:20260421T125807
CREATED:20251002T155944Z
LAST-MODIFIED:20251002T155944Z
UID:16451-1765123200-1765123200@k100.ca
SUMMARY:NHL Legends in Sussex
DESCRIPTION:Local hockey players will take on some of the best NHL players to have played the game. \nTickets are only $30 including taxes and fees \nUpgrade to a locker room pass for $60…hang out with the players! \n(only 30 available for each intermission…between 1st and 2nd period then another slot between 2nd and 3rd period) \nA VIP reception and dinner will be held after the game at The Mule Bar and Grill and hosted by the NHL Legends themselves. Tickets are $100 and include the reception and meal as well as entry to the game. \nIf you are interested in being on the Sussex squad\, $600 is paid but you will receive 25 game tickets valued at $750. Only 1st 18 players can register. \nGet your tickets here: https://www.eventbrite.ca/e/nhl-legends-in-sussex-tickets-1743577490209 \n
URL:https://k100.ca/event/nhl-legends-in-sussex/
ATTACH;FMTTYPE=image/jpeg:https://k100.ca/wp-content/uploads/sites/9/2025/10/1000026689.jpg
END:VEVENT
END:VCALENDAR