BEGIN:VCALENDAR
VERSION:2.0
PRODID:-//K100 - ECPv4.6.26//NONSGML v1.0//EN
CALSCALE:GREGORIAN
METHOD:PUBLISH
X-WR-CALNAME:K100
X-ORIGINAL-URL:https://k100.ca
X-WR-CALDESC:Events for K100
BEGIN:VEVENT
DTSTART;VALUE=DATE:20181231
DTEND;VALUE=DATE:20190101
DTSTAMP:20260421T160912
CREATED:20171107T163225Z
LAST-MODIFIED:20171107T163225Z
UID:3993-1546214400-1546300799@k100.ca
SUMMARY:New Year's Eve
DESCRIPTION:
URL:https://k100.ca/event/new-years-eve/
END:VEVENT
END:VCALENDAR