BEGIN:VCALENDAR
VERSION:2.0
PRODID:-//K100 - ECPv4.6.26//NONSGML v1.0//EN
CALSCALE:GREGORIAN
METHOD:PUBLISH
X-WR-CALNAME:K100
X-ORIGINAL-URL:https://k100.ca
X-WR-CALDESC:Events for K100
BEGIN:VEVENT
DTSTART;VALUE=DATE:20170710
DTEND;VALUE=DATE:20170711
DTSTAMP:20260423T202226
CREATED:20170623T181801Z
LAST-MODIFIED:20170623T181801Z
UID:3013-1499644800-1499731199@k100.ca
SUMMARY:KV Oasis Summer Camp begins!
DESCRIPTION: \n
URL:https://k100.ca/event/kv-oasis-summer-camp-begins/
END:VEVENT
END:VCALENDAR