BEGIN:VCALENDAR
VERSION:2.0
PRODID:-//K100 - ECPv4.6.26//NONSGML v1.0//EN
CALSCALE:GREGORIAN
METHOD:PUBLISH
X-WR-CALNAME:K100
X-ORIGINAL-URL:https://k100.ca
X-WR-CALDESC:Events for K100
BEGIN:VEVENT
DTSTART;TZID=America/Halifax:20241028T150000
DTEND;TZID=America/Halifax:20241028T190000
DTSTAMP:20260421T091023
CREATED:20241016T083704Z
LAST-MODIFIED:20241016T083704Z
UID:15398-1730127600-1730142000@k100.ca
SUMMARY:First Steps Clothing Drive
DESCRIPTION:Let’s come together to bring warmth and comfort to those in need in our community this winter.\nWe are excited to announce First Steps annual Coat and Boots drive\,\ntaking place on October 28th at Kent Building Supplies in East Saint John. \nYour donations will make a real difference in the lives of others.Join us at 85 Consumers Drive\, where we will gratefully accept contributions from 3pm to 7pm!What we are looking for include:Size 3 months – 10 years for babies & children including snow pants!All sizes for women & men. \n \n
URL:https://k100.ca/event/first-steps-clothing-drive/
CATEGORIES:Charity Event,Community Events
END:VEVENT
END:VCALENDAR