BEGIN:VCALENDAR
VERSION:2.0
PRODID:-//K100 - ECPv4.6.26//NONSGML v1.0//EN
CALSCALE:GREGORIAN
METHOD:PUBLISH
X-WR-CALNAME:K100
X-ORIGINAL-URL:https://k100.ca
X-WR-CALDESC:Events for K100
BEGIN:VEVENT
DTSTART;TZID=America/Halifax:20171104T100000
DTEND;TZID=America/Halifax:20171104T140000
DTSTAMP:20260421T105031
CREATED:20171010T184050Z
LAST-MODIFIED:20171010T184107Z
UID:3784-1509789600-1509804000@k100.ca
SUMMARY:Countdown To Christmas Shopping Expo
DESCRIPTION:The Simonds High Alumni is hosting its 3rd annual Countdown to Christmas Shopping Expo. The holiday season is fast approaching\, let us make the shopping a bit easier. With a variety of local vendors coming to share their unique treasures with you\, surely you will find the perfect gift for everyone on your list. \nAgain this year the delicious Parking Lot Pizza food truck will be with us serving up delicious pizza!! \nAdmission is free!! \n
URL:https://k100.ca/event/countdown-to-christmas-shopping-expo/
END:VEVENT
END:VCALENDAR