BEGIN:VCALENDAR
VERSION:2.0
PRODID:-//K100 - ECPv4.6.26//NONSGML v1.0//EN
CALSCALE:GREGORIAN
METHOD:PUBLISH
X-WR-CALNAME:K100
X-ORIGINAL-URL:https://k100.ca
X-WR-CALDESC:Events for K100
BEGIN:VEVENT
DTSTART;TZID=America/Halifax:20250105T190000
DTEND;TZID=America/Halifax:20250105T213000
DTSTAMP:20260424T153412
CREATED:20241211T112323Z
LAST-MODIFIED:20241211T112323Z
UID:15675-1736103600-1736112600@k100.ca
SUMMARY:Cirque Du Soleil TD Station Jan 2 - 5
DESCRIPTION:Discover a new kind of performance as Cirque du Soleil meets the ice to defy all expectations.\nWatch world-class ice skaters and acrobats claim their new frozen playground with speed and fluidity\nas they challenge the laws of gravity with never-before-seen acrobatics. \nCrystal\, our misfit heroine\, takes you on an exhilarating tale of self-discovery as she dives into\na world of her own imagination.\nFeel the adrenaline as she soars through this surreal world to become what she was always destined to be:\nconfident\, curious\, and creative.\nCirque du Soleil CRYSTAL invites you to suspend reality and glide into a world that springs to colorful life\nwith astounding visual projections and a soundtrack that seamlessly blends popular music with the\nsignature sound of Cirque du Soleil. \nCirque du Soleil CRYSTAL is suitable for all ages. \n \n
URL:https://k100.ca/event/cirque-du-soleil-td-station-jan-2-5/2025-01-05/
LOCATION:TD Station
CATEGORIES:Entertainment,Family Events
END:VEVENT
END:VCALENDAR