BEGIN:VCALENDAR
VERSION:2.0
PRODID:-//K100 - ECPv4.6.26//NONSGML v1.0//EN
CALSCALE:GREGORIAN
METHOD:PUBLISH
X-WR-CALNAME:K100
X-ORIGINAL-URL:https://k100.ca
X-WR-CALDESC:Events for K100
BEGIN:VEVENT
DTSTART;TZID=America/Halifax:20171025T170000
DTEND;TZID=America/Halifax:20171025T193000
DTSTAMP:20260422T022239
CREATED:20170914T183446Z
LAST-MODIFIED:20170914T183446Z
UID:3614-1508950800-1508959800@k100.ca
SUMMARY:Chase the Ace
DESCRIPTION:Join in the Fun while supporting the Loch Lomond Villa Foundation! Chase the Ace takes place this and every Wednesday night at the 3Mile. Hope to see you there! \n
URL:https://k100.ca/event/chase-the-ace-14/
END:VEVENT
END:VCALENDAR