BEGIN:VCALENDAR
VERSION:2.0
PRODID:-//K100 - ECPv4.6.26//NONSGML v1.0//EN
CALSCALE:GREGORIAN
METHOD:PUBLISH
X-WR-CALNAME:K100
X-ORIGINAL-URL:https://k100.ca
X-WR-CALDESC:Events for K100
BEGIN:VEVENT
DTSTART;TZID=America/Halifax:20171011T170000
DTEND;TZID=America/Halifax:20171011T193000
DTSTAMP:20260420T032937
CREATED:20170914T183407Z
LAST-MODIFIED:20170914T183407Z
UID:3612-1507741200-1507750200@k100.ca
SUMMARY:Chase the Ace
DESCRIPTION:Join in the Fun while supporting the Loch Lomond Villa Foundation! Chase the Ace takes place this and every Wednesday night at the 3Mile. Hope to see you there! \n
URL:https://k100.ca/event/chase-the-ace-13/
END:VEVENT
END:VCALENDAR