BEGIN:VCALENDAR
VERSION:2.0
PRODID:-//K100 - ECPv4.6.26//NONSGML v1.0//EN
CALSCALE:GREGORIAN
METHOD:PUBLISH
X-WR-CALNAME:K100
X-ORIGINAL-URL:https://k100.ca
X-WR-CALDESC:Events for K100
BEGIN:VEVENT
DTSTART;TZID=America/Halifax:20181108T183000
DTEND;TZID=America/Halifax:20181108T210000
DTSTAMP:20260419T201235
CREATED:20181011T172829Z
LAST-MODIFIED:20181011T172829Z
UID:6076-1541701800-1541710800@k100.ca
SUMMARY:Building Families Through Adoption
DESCRIPTION:Building Families Through Adoption: Voices of Child Welfare Professionals\, Adoptive\, Parents and Youth When : Thursday\, November 8th\, 2018 at 630 pm Where : Auditorium at Harbour View High Other : Come Learn about Adoption in your Province This activity is open to Everyone interested in Adoption For more Information Contact Catherine at 506 642-3210 or adoptnbsaintjohn@gmail.com \n
URL:https://k100.ca/event/building-families-through-adoption/
LOCATION:Harbour View High School
END:VEVENT
END:VCALENDAR