BEGIN:VCALENDAR
VERSION:2.0
PRODID:-//K100 - ECPv4.6.26//NONSGML v1.0//EN
CALSCALE:GREGORIAN
METHOD:PUBLISH
X-WR-CALNAME:K100
X-ORIGINAL-URL:https://k100.ca
X-WR-CALDESC:Events for K100
BEGIN:VEVENT
DTSTART;VALUE=DATE:20250802
DTEND;VALUE=DATE:20250805
DTSTAMP:20260421T091458
CREATED:20250716T120622Z
LAST-MODIFIED:20250716T120844Z
UID:16245-1754092800-1754351999@k100.ca
SUMMARY:Bay of Fundy Sand Sculpture Festival 2025
DESCRIPTION:The biggest beach day of the year is bigger than ever!\nFor nearly 40 years\, sand sculptors and spectators have gathered at New River Beach Provincial Park and now\,\nthe festival is evolving — growing from a single-day community event into a multi-day experience. \nThis year\, The Bay of Fundy Sand Sculpture Festival at New River Beach Provincial Park will run from August 2nd to 4th\,\nand will include a 3-day professional sand sculpting competition featuring some of the best sand sculptors in the world! \nWatch as world-class sand sculptors craft masterpieces from nothing but sand and water.\nBut as the tides rise\, their creations are reclaimed by the Bay\, making each sculpture a temporary wonder. \nRegister now to create your own masterpieces at fundysculpturefest.com for the free amateur competition on Aug 2nd\nand enjoy a day of music\, vendors\, and sand sculpting workshops for the family. \nThis festival is proudly presented by ParksNB\, the Ginger Agency\, Tim Sommerville\, Cooke Aquaculture\,\nthe Saint John Airport and Saint John’s summer soundtrack\, K100. \n \n
URL:https://k100.ca/event/bay-of-fundy-sand-sculpture-festival-2025/
CATEGORIES:Community Events
END:VEVENT
END:VCALENDAR