BEGIN:VCALENDAR
VERSION:2.0
PRODID:-//K100 - ECPv4.6.26//NONSGML v1.0//EN
CALSCALE:GREGORIAN
METHOD:PUBLISH
X-WR-CALNAME:K100
X-ORIGINAL-URL:https://k100.ca
X-WR-CALDESC:Events for K100
BEGIN:VEVENT
DTSTART;VALUE=DATE:20250525
DTEND;VALUE=DATE:20250526
DTSTAMP:20260425T105548
CREATED:20241219T111725Z
LAST-MODIFIED:20250129T115014Z
UID:15645-1748131200-1748217599@k100.ca
SUMMARY:Avril Lavigne May 25
DESCRIPTION:Avril Lavigne has made history\, smashed records\, and consistently\nblazed a trail of her own as an uncompromising force in music and culture. \nBeyond selling 50 million albums worldwide with 12.5 million units sold in the U.S. alone\,\nshe has notched eight GRAMMY® Award nominations\, has won 10 JUNO Awards\,\nwas appointed to the Order of Canada (2024)\, and is a Canada Walk of Fame (2023) and Hollywood Walk of Fame (2022) recipient. \nIn June\, Avril released her first-ever Greatest Hits album featuring 20 career-spanning fan-favorites from her record-smashing catalog.\nIn support\, Avril completed a 29-night run of sold-out shows on her North American headline Avril Lavigne: The Greatest Hits tour this summer\,\nas well as performed show-stopping sets oversees including her critically acclaimed Glastonbury debut. \nAvril’s impressive catalog includes the diamond-certified (Canada) and septuple platinum (U.S.) album Let Go [2002]\,\nquintuple-platinum (Canada) and triple-platinum (U.S.) Under My Skin [2004]\, double-platinum The Best Damn Thing  [2007]\,\ngold-selling Goodbye Lullaby [2011]\, gold-selling Avril Lavigne [2013]\, and Head Above Water [2019]\,\nand Love Sux [2022] that debuted in the top 10 on Billboard’s Top 200 Chart and amassed over 12 million streams in its first week alone. \nAs such\, she remains of “one of the Soundscan-era’s top-selling artists releasing albums in the U.S.” and “the third best-selling Canadian female artist of all-time.”\nShe earned a spot in the Top 10 of Billboard’s “Best of the 2000s” chart and holds a Guinness World Record as “the youngest female solo artist to top the UK chart\,”\nwhile “Girlfriend” emerged as “first music video to reach 100 million views on YouTube.” \nFor tour dates and all other information\, please visit www.avrillavigne.com. \n \n
URL:https://k100.ca/event/avril-lavigne-may-25/
CATEGORIES:Concerts
ATTACH;FMTTYPE=image/jpeg:https://k100.ca/wp-content/uploads/sites/9/2024/12/AvrilLavigne_1920x1080.jpg
END:VEVENT
END:VCALENDAR