BEGIN:VCALENDAR
VERSION:2.0
PRODID:-//K100 - ECPv4.6.26//NONSGML v1.0//EN
CALSCALE:GREGORIAN
METHOD:PUBLISH
X-WR-CALNAME:K100
X-ORIGINAL-URL:https://k100.ca
X-WR-CALDESC:Events for K100
BEGIN:VEVENT
DTSTART;TZID=America/Halifax:20170711T160000
DTEND;TZID=America/Halifax:20170711T183000
DTSTAMP:20260423T190554
CREATED:20170627T121906Z
LAST-MODIFIED:20170627T121906Z
UID:3042-1499788800-1499797800@k100.ca
SUMMARY:Annual Strawberry Festival
DESCRIPTION:Please join us for our annual Strawberry Festival at the Hampton United Church\, for a delicious ham dinner. Menu will include; potato salad\, coleslaw\, marinated carrots\, ham\, brown bread\, homemade rolls and a scrumptious strawberry shortcake made with homemade biscuits. Price is $12.00/ adult. $6.00 / child 6-12 years old\, 5  and under are free.  \n\n  \n  \n
URL:https://k100.ca/event/annual-strawberry-festival/
END:VEVENT
END:VCALENDAR