BEGIN:VCALENDAR
VERSION:2.0
PRODID:-//K100 - ECPv4.6.26//NONSGML v1.0//EN
CALSCALE:GREGORIAN
METHOD:PUBLISH
X-WR-CALNAME:K100
X-ORIGINAL-URL:https://k100.ca
X-WR-CALDESC:Events for K100
BEGIN:VEVENT
DTSTART;TZID=America/Halifax:20181209T113000
DTEND;TZID=America/Halifax:20181209T150000
DTSTAMP:20260425T102154
CREATED:20181129T181503Z
LAST-MODIFIED:20181129T181517Z
UID:6515-1544355000-1544367600@k100.ca
SUMMARY:4th Annual St Martins Farmer's Market Christmas Sale
DESCRIPTION:Come and enjoy the 4th Annual St. Martins Farmers Christmas Art\, Baking & Craft Sale On Sunday\, December 9th from 11:30 am to 3 pm\nThere are two locations: St. Martins Legion (77 Main Street\, St. Martins) and St. Martins Community Hall (just above Fire Station)\nWe will have a wide range of products spread over 40 tables. \nFor updates and more information check out our Facebook Page: St. Martins Farmers Market or call 833-2220. New vendors welcome. \n
URL:https://k100.ca/event/4th-annual-st-martins-farmer-market-christmas-sale/
END:VEVENT
END:VCALENDAR